BEGIN:VCALENDAR
VERSION:2.0
PRODID:-//Slovenian Union of America - ECPv6.15.20//NONSGML v1.0//EN
CALSCALE:GREGORIAN
METHOD:PUBLISH
X-WR-CALNAME:Slovenian Union of America
X-ORIGINAL-URL:https://slovenianunion.org
X-WR-CALDESC:Events for Slovenian Union of America
REFRESH-INTERVAL;VALUE=DURATION:PT1H
X-Robots-Tag:noindex
X-PUBLISHED-TTL:PT1H
BEGIN:VTIMEZONE
TZID:America/New_York
BEGIN:DAYLIGHT
TZOFFSETFROM:-0500
TZOFFSETTO:-0400
TZNAME:EDT
DTSTART:20250309T070000
END:DAYLIGHT
BEGIN:STANDARD
TZOFFSETFROM:-0400
TZOFFSETTO:-0500
TZNAME:EST
DTSTART:20251102T060000
END:STANDARD
BEGIN:DAYLIGHT
TZOFFSETFROM:-0500
TZOFFSETTO:-0400
TZNAME:EDT
DTSTART:20260308T070000
END:DAYLIGHT
BEGIN:STANDARD
TZOFFSETFROM:-0400
TZOFFSETTO:-0500
TZNAME:EST
DTSTART:20261101T060000
END:STANDARD
BEGIN:DAYLIGHT
TZOFFSETFROM:-0500
TZOFFSETTO:-0400
TZNAME:EDT
DTSTART:20270314T070000
END:DAYLIGHT
BEGIN:STANDARD
TZOFFSETFROM:-0400
TZOFFSETTO:-0500
TZNAME:EST
DTSTART:20271107T060000
END:STANDARD
END:VTIMEZONE
BEGIN:VTIMEZONE
TZID:UTC
BEGIN:STANDARD
TZOFFSETFROM:+0000
TZOFFSETTO:+0000
TZNAME:UTC
DTSTART:20250101T000000
END:STANDARD
END:VTIMEZONE
BEGIN:VTIMEZONE
TZID:Asia/Dubai
BEGIN:STANDARD
TZOFFSETFROM:+0400
TZOFFSETTO:+0400
TZNAME:+04
DTSTART:20250101T000000
END:STANDARD
END:VTIMEZONE
BEGIN:VEVENT
DTSTART;TZID=America/New_York:20260326T180000
DTEND;TZID=America/New_York:20260326T193000
DTSTAMP:20260420T064137
CREATED:20260321T014558Z
LAST-MODIFIED:20260325T224643Z
UID:6433-1774548000-1774553400@slovenianunion.org
SUMMARY:Wines of Slovenia (EST)
DESCRIPTION:Join New York Branch 93 for a virtual conversation exploring the wines of Slovenia with Level 2 Sommelier and Branch 93 member Dalton Jaklitsch. All SUA Members Welcome! \nRather than a traditional guided tasting of specific bottles\, this session will focus on Slovenia’s wine regions—their landscapes\, grapes\, traditions\, and the styles of wine they produce. \nDuring the conversation\, Dalton will highlight Goriška Brda\, the region where renowned producer Edi Simčič is based\, and will enjoy a bottle of Duet Lex while discussing the wines of the area. \nIf you’d like\, feel free to sip along with any Slovenian wine you’re able to find\, but it’s not required. The goal is to learn about the region and its wines rather than follow a structured tasting. \nFor those interested in exploring Slovenian wines further\, here are a few outstanding producers to look for: \n• Edi Simčič — Goriška Brda\n• Movia — Brda\n• Marjan Simčič — Brda\n• Klinec Plešivo — Brda\n• Radikon — Oslavia / Collio (a historic producer just across the border that has influenced the region) \n👉 RSVP HERE and Branch 93 will send you the Zoom link ahead of the event. \nAbout the Speaker \nDalton Jaklitsch was born and raised in New York to a Slovenian and Austrian father and an American mother. He studied Finance and International Business before beginning his career in finance and later transitioning into data science. He currently works as a Team Lead in Strategy and Analytics at a large fintech company and is also a founding partner of the cookie brand Good Ol’ Cookie. \nGrowing up around wine and cooking\, Dalton developed an early appreciation for food and hospitality. During his college summers\, he interned at several fine dining restaurants\, which inspired him to start creating cooking and wine content on YouTube as a creative passion project. \n🍷 Where to Find Slovenian Wines \nIf you’d like to taste along during the event you can explore Slovenian wines in the Wine-Searcher database to see producers\, bottles\, and stores that carry them. It’s basically amazon for wines!
URL:https://slovenianunion.org/event/wines-of-slovenia/
END:VEVENT
BEGIN:VEVENT
DTSTART;TZID=America/New_York:20260326T200000
DTEND;TZID=America/New_York:20260326T210000
DTSTAMP:20260420T064137
CREATED:20260125T184732Z
LAST-MODIFIED:20260325T224609Z
UID:5955-1774555200-1774558800@slovenianunion.org
SUMMARY:3rd Annual Women’s Celebration (EST)
DESCRIPTION:Commemorate Women’s History Month with this one-hour showcase of five fascinating and inspiring Slovenian and Slovenian-American women. Register at www.tinyurl.com/WomenSUA2026. \nPresentations \n\nPhyllis Wood (Branch100) honors Ana Klobuchar Clemenc\, Labor activist known as the “American Joan of Arc.”\nHeidi Rixman (Branch 30) honors Irena Gubina\, Lipizzaner equestrian.\nPatti Meglich (Branch 30) honors Alma M. Karlin\, writer\, collector\, polyglot & one of the first European women to circle the globe.\nDiane Bronstein (Branch 30) honors Ivana Kobilca\, Slovenia’s best known female painter.\nKaren Apolloni (Branch 30) honors Breda Loncar\, co-author of the first Slovenian-American language\nmanual.
URL:https://slovenianunion.org/event/3rd-annual-womens-celebration/
LOCATION:Zoom Meeting
END:VEVENT
BEGIN:VEVENT
DTSTART;TZID=UTC:20260331T190000
DTEND;TZID=UTC:20260331T203000
DTSTAMP:20260420T064137
CREATED:20260125T190423Z
LAST-MODIFIED:20260125T190546Z
UID:5962-1774983600-1774989000@slovenianunion.org
SUMMARY:Book Club
DESCRIPTION:In the introduction Mary writes “Immigrant Woman is a fictionalized biography of my mother\, but every incident in it is true\, and derived from first-hand experience as her oldest child.” One aspect of the book “What kind of women come out of a highly-controlled\, rigid atmosphere? Answer: passive women; dependent women. This is according to the books\, the studies\, the conclusions. None of that applied to the children of the Immigrant Woman. Never were daughters more rigidly\, tightly controlled; never did any develop into more individualistic\, independent women.”
URL:https://slovenianunion.org/event/book-club/
LOCATION:Zoom Meeting
ORGANIZER;CN="Lynn Zalokar":MAILTO:suabookclub@gmail.com
END:VEVENT
BEGIN:VEVENT
DTSTART;VALUE=DATE:20260418
DTEND;VALUE=DATE:20260419
DTSTAMP:20260420T064137
CREATED:20260408T122108Z
LAST-MODIFIED:20260408T122441Z
UID:6559-1776470400-1776556799@slovenianunion.org
SUMMARY:Slovenians of the Iron Range Film presentation
DESCRIPTION:Presented by Joe Valencic. Branch 109.
URL:https://slovenianunion.org/event/slovenians-of-the-iron-range-film-presentation/
END:VEVENT
BEGIN:VEVENT
DTSTART;TZID=UTC:20260425T100000
DTEND;TZID=UTC:20260425T120000
DTSTAMP:20260420T064137
CREATED:20260408T122256Z
LAST-MODIFIED:20260408T122414Z
UID:6561-1777111200-1777118400@slovenianunion.org
SUMMARY:Member Rep Meeting
DESCRIPTION:Zoom meeting.
URL:https://slovenianunion.org/event/zoom/
END:VEVENT
BEGIN:VEVENT
DTSTART;TZID=Asia/Dubai:20260505T200000
DTEND;TZID=Asia/Dubai:20260505T210000
DTSTAMP:20260420T064137
CREATED:20260413T235718Z
LAST-MODIFIED:20260414T000732Z
UID:6589-1778011200-1778014800@slovenianunion.org
SUMMARY:Slovenian History
DESCRIPTION:On May 5th at 8pm (EST) Prof. Gregor Kranjc will discuss his 2014 book To Walk with the Devil: Slovene Collaboration and Axis Occupation\, 1941–1945. The Cultural Interest Group (CIG) “Slovenia: History\, Politics\, Current Events\,” is open exclusively to SUA members\, the quarterly meetings via Zoom\, will be co-chaired by SUA-member brothers Dr. Michael Kozuh\, professor at Auburn University\, and Daniel Kozuh\, writer\, editor\, and media professional. If you would like to be added to the CIG mailing list send an email to mikekozuh+SUAhistory@gmail.com.
URL:https://slovenianunion.org/event/slovenian-history/
END:VEVENT
END:VCALENDAR