BEGIN:VCALENDAR
VERSION:2.0
PRODID:-//Slovenian Union of America - ECPv6.15.20//NONSGML v1.0//EN
CALSCALE:GREGORIAN
METHOD:PUBLISH
X-WR-CALNAME:Slovenian Union of America
X-ORIGINAL-URL:https://slovenianunion.org
X-WR-CALDESC:Events for Slovenian Union of America
REFRESH-INTERVAL;VALUE=DURATION:PT1H
X-Robots-Tag:noindex
X-PUBLISHED-TTL:PT1H
BEGIN:VTIMEZONE
TZID:UTC
BEGIN:STANDARD
TZOFFSETFROM:+0000
TZOFFSETTO:+0000
TZNAME:UTC
DTSTART:20250101T000000
END:STANDARD
END:VTIMEZONE
BEGIN:VEVENT
DTSTART;TZID=UTC:20260425T100000
DTEND;TZID=UTC:20260425T120000
DTSTAMP:20260420T035304
CREATED:20260408T122256Z
LAST-MODIFIED:20260408T122414Z
UID:6561-1777111200-1777118400@slovenianunion.org
SUMMARY:Member Rep Meeting
DESCRIPTION:Zoom meeting.
URL:https://slovenianunion.org/event/zoom/
END:VEVENT
END:VCALENDAR